BEGIN:VCALENDAR
VERSION:2.0
PRODID:-//PolitiCal-AK - ECPv6.15.20//NONSGML v1.0//EN
CALSCALE:GREGORIAN
METHOD:PUBLISH
X-ORIGINAL-URL:https://www.political-ak.de
X-WR-CALDESC:Veranstaltungen für PolitiCal-AK
REFRESH-INTERVAL;VALUE=DURATION:PT1H
X-Robots-Tag:noindex
X-PUBLISHED-TTL:PT1H
BEGIN:VTIMEZONE
TZID:Europe/Berlin
BEGIN:DAYLIGHT
TZOFFSETFROM:+0100
TZOFFSETTO:+0200
TZNAME:CEST
DTSTART:20250330T010000
END:DAYLIGHT
BEGIN:STANDARD
TZOFFSETFROM:+0200
TZOFFSETTO:+0100
TZNAME:CET
DTSTART:20251026T010000
END:STANDARD
BEGIN:DAYLIGHT
TZOFFSETFROM:+0100
TZOFFSETTO:+0200
TZNAME:CEST
DTSTART:20260329T010000
END:DAYLIGHT
BEGIN:STANDARD
TZOFFSETFROM:+0200
TZOFFSETTO:+0100
TZNAME:CET
DTSTART:20261025T010000
END:STANDARD
BEGIN:DAYLIGHT
TZOFFSETFROM:+0100
TZOFFSETTO:+0200
TZNAME:CEST
DTSTART:20270328T010000
END:DAYLIGHT
BEGIN:STANDARD
TZOFFSETFROM:+0200
TZOFFSETTO:+0100
TZNAME:CET
DTSTART:20271031T010000
END:STANDARD
END:VTIMEZONE
BEGIN:VEVENT
DTSTART;TZID=Europe/Berlin:20260424T153000
DTEND;TZID=Europe/Berlin:20260424T163000
DTSTAMP:20260420T170159
CREATED:20260420T091514Z
LAST-MODIFIED:20260420T094546Z
UID:10002092-1777044600-1777048200@www.political-ak.de
SUMMARY:Energiewende verteidigen!
DESCRIPTION:Die Vorhaben von Wirtschaftsministerin Reiche und der Bundesregierung beim Ausbau von Gaskraft und gleichszeitigem Ausbremsen der erneuerbaren Energien provozieren ein ökologisches und vor allem auch ökonomisches Desaster. \nDie steigende Preise spüren alle unmittelbar im Alltag. Vor allem jetzt wird es deutlich: Tanken\, Heizen\, Lebensmittel\, all das ist durch den Iran-Krieg und die Abhängigkeit von den Fossilen bereits teuer und die Preise werden weiter steigen. \nDabei sind die „alternativen Energien“ längst alternativlos und nicht mehr aufzugalten. \nLasst uns auch im Westerwald zeigen\, dass wir keine Verzögerungen wollen\, nur damit sich ein paar fossile Konzerne und ihre Aktionäre noch eine Weile die taschen vollstopfen können! \nKommt nach Betzdorf! Teilt den Aufruf!
URL:https://www.political-ak.de/event/energiewende-verteidigen/
LOCATION:Rathaus Betzdorf\, Hellerstraße 2\, Betzdorf\, RLP\, 57518\, Deutschland
ATTACH;FMTTYPE=image/jpeg:https://www.political-ak.de/wp-content/uploads/2026/04/Kundgebung-Betzdorf.jpeg
END:VEVENT
END:VCALENDAR